BEGIN:VCALENDAR
VERSION:2.0
PRODID:-//wp-events-plugin.com//7.2.3.1//EN
TZID:Europe/Berlin
X-WR-TIMEZONE:Europe/Berlin
BEGIN:VEVENT
UID:8@lumberjack.de
DTSTART;TZID=Europe/Berlin:20220603T203000
DTEND;TZID=Europe/Berlin:20220603T230000
DTSTAMP:20230810T170232Z
URL:https://lumberjack.de/events/13-lambert-open-italian-night-feat-giovan
 ni-costello-voc
SUMMARY:13.Lambert Open - "ITALIAN NIGHT" feat. Giovanni Costello (voc)
DESCRIPTION:Fahrtbeschreibung:\nhier klicken\n\nEinlass: 19.45h\nBeginn: 20
 .30h\n\nBitte informieren Sie sich über die zum Konzertzeitpunkt eventuel
 l noch\ngeltenden Coronamaßnamhmen\n\nKartenvorverkauf:\n\n\n 	online:\nw
 ww.lumberjack.de/tickets\n 	Lambert GmbH\nTel.: 07161/999220\nHeininger St
 r. 38\, 73037 Göppingen\n 	iPunkt Rathaus\nTel.: 07161/6504444\nHauptstra
 ße 1\, 73033 Göppingen\n(nur hier Rollstuhlplätze)\n 	Abendkasse: falls
  verfügbar\n\nMehr Infos:\nGiovanni Costello:\nwww.giovannicostello.com\n
 Carina Pittner:\nwww.ms-spectra.de\nOlimpia Casa:\nwww.olimpiacasa.de\nLam
 bert GmbH:\nwww.lambert-gmbh.de\n\n\nVideos mit G.Costello und der Lumberj
 ack Bigband\nhier klicken\nVideo mit G.Costello und der SWR BigBand:\nhier
  klicken\n\n\nPresseinfos:\nhier klicken\n\nPlakat:\nhier klicken\n
ATTACH;FMTTYPE=image/jpeg:https://lumberjack.de/wp-content/uploads/2022/05
 /Flagge_Italien.jpg
LOCATION:Lambert GmbH\, Heininger Str. 38\, Göppingen\, Baden-Württemberg
 \, 73037\, Deutschland
X-APPLE-STRUCTURED-LOCATION;VALUE=URI;X-ADDRESS=Heininger Str. 38\, Göppin
 gen\, Baden-Württemberg\, 73037\, Deutschland;X-APPLE-RADIUS=100;X-TITLE=
 Lambert GmbH:geo:0,0
END:VEVENT
BEGIN:VTIMEZONE
TZID:Europe/Berlin
X-LIC-LOCATION:Europe/Berlin
BEGIN:DAYLIGHT
DTSTART:20220327T030000
TZOFFSETFROM:+0100
TZOFFSETTO:+0200
TZNAME:CEST
END:DAYLIGHT
END:VTIMEZONE
END:VCALENDAR