BEGIN:VCALENDAR
VERSION:2.0
PRODID:-//wp-events-plugin.com//7.2.3.1//EN
TZID:Europe/Berlin
X-WR-TIMEZONE:Europe/Berlin
BEGIN:VEVENT
UID:4@lumberjack.de
DTSTART:20220402T200000Z
DTEND:20220402T230000Z
DTSTAMP:20220403T160204Z
URL:https://lumberjack.de/events/divas-with-soul
SUMMARY:Divas with Soul
DESCRIPTION:Fahrtbeschreibung:\nhier klicken\n\nEinlass: 19.ooh\nBeginn: 20
 .ooh\n\nBitte informieren Sie sich über die zum Konzertzeitpunkt geltende
 n Coronamaßnamhmen\n\nKartenvorverkauf:\n\n\n 	email/Telefon:\nannette.mu
 eller@uhingen.de\nTel.: 07161/9380-100\njacqueline.lenhardt@uhingen.de\nTe
 l.: 07161/9380-139\n 	online:\nhier klicken\n 	Abendkasse: falls verfügba
 r\n\n\nMehr Infos:\nDeborah Woodson: hier klicken\nNathalie Dorra: hier kl
 icken\nUditorium: hier klicken\n\n\nVideos:\nDeborah Woodson with Lumberja
 ck: hier klicken\nNathalie Dorra: hier klicken\n\n\nPresseinfos:\nhier kli
 cken
LOCATION:Uditorium\, Ulmer Str. 7\, Uhingen\, Baden-Württemberg\, 73066\, 
 Deutschland
X-APPLE-STRUCTURED-LOCATION;VALUE=URI;X-ADDRESS=Ulmer Str. 7\, Uhingen\, Ba
 den-Württemberg\, 73066\, Deutschland;X-APPLE-RADIUS=100;X-TITLE=Uditoriu
 m:geo:0,0
END:VEVENT
END:VCALENDAR