BEGIN:VCALENDAR
VERSION:2.0
PRODID:-//wp-events-plugin.com//7.2.3.1//EN
TZID:Europe/Berlin
X-WR-TIMEZONE:Europe/Berlin
BEGIN:VEVENT
UID:25@lumberjack.de
DTSTART;TZID=Europe/Berlin:20231226T160000
DTEND;TZID=Europe/Berlin:20231226T173000
DTSTAMP:20231119T112512Z
URL:https://lumberjack.de/events/duke-ellington-sacred-concert-mit-chor-st
 eptanz-und-sologesang
SUMMARY:Duke Ellington: Sacred Concert mit Chor\, Steptanz und Sologesang
DESCRIPTION:\n\n\nKartenbezug:\nonline: hier klicken\nGemeindebüro: Haupst
 rasse 31\, 73033 Göppingen\n\n\nOrt:\nOberhofenkirche Göppingen\n\n\nFah
 rtbeschreibung:&nbsp\;\nhier klicken\n\n\n\nPresse:\nhier klicken\n\n\nPla
 kat:&nbsp\;\nhier klicken\n\n\nWerbeteaser:&nbsp\;\nhier klicken\n\n\nmehr
  Infos:\nwww.goeppingen-evangelisch.de\nwww.barbarabuerkle.de\nwww.melanie
 -oster.de
ATTACH;FMTTYPE=image/jpeg:https://lumberjack.de/wp-content/uploads/2023/11
 /Kombifoto-scaled.jpg
LOCATION:Oberhofenkirche Göppingen\, Ziegelstraße 2\, 73033 Göppingen\, 
 73033 Göppingen\, Deutschland
GEO:48.705648;9.657331
X-APPLE-STRUCTURED-LOCATION;VALUE=URI;X-ADDRESS=Ziegelstraße 2\, 73033 Gö
 ppingen\, 73033 Göppingen\, Deutschland;X-APPLE-RADIUS=100;X-TITLE=Oberho
 fenkirche Göppingen:geo:48.705648,9.657331
END:VEVENT
BEGIN:VTIMEZONE
TZID:Europe/Berlin
X-LIC-LOCATION:Europe/Berlin
BEGIN:STANDARD
DTSTART:20231029T020000
TZOFFSETFROM:+0200
TZOFFSETTO:+0100
TZNAME:CET
END:STANDARD
END:VTIMEZONE
END:VCALENDAR