BEGIN:VCALENDAR
VERSION:2.0
PRODID:-//wp-events-plugin.com//7.2.3.1//EN
TZID:Europe/Berlin
X-WR-TIMEZONE:Europe/Berlin
BEGIN:VEVENT
UID:33@lumberjack.de
DTSTART;TZID=Europe/Berlin:20240906T000000
DTEND;TZID=Europe/Berlin:20240914T000000
DTSTAMP:20240904T111211Z
URL:https://lumberjack.de/events/falco-meets-queen-a-concert-made-in-heave
 n
SUMMARY:FALCO meets QUEEN "A Concert Made In Heaven"
DESCRIPTION:\n\nKartenbezug:\n*** online: hier klicken\n*** Abendkasse: fal
 ls verfügbar\n\n&nbsp\;\n\nTermine:\nFr\, 06.09.2024 - Beginn: 19.3oh\nSa
 \, 07.09.2024 - Beginn: 19.3oh\nSo\, 08.09.2024 - Beginn: 18.ooh\nDo\, 12.
 09.2024 - Beginn: 19.3oh\nFr\, 13.09.2024 - Beginn: 19.3oh\nSa\, 14.09.202
 4 - Beginn: 19.3oh\n\n\nOrt:\nWerfthalle Göppingen\nManfred-Wörner-Stra
 ße 104\, 73037 Göppingen\n\n&nbsp\;\n\nPlakat: hier klicken\n\n\nPresse:
  hier klicken\n\n\nWerbeteaser: hier klicken\n\n\n&nbsp\;\n\nmehr Infos:\n
 www.staufer-festspiele.de\nwww.axel-herrig.de\nwww.facebook.com/saschalien
ATTACH;FMTTYPE=image/jpeg:https://lumberjack.de/wp-content/uploads/2024/09
 /SF_Falco_2048x1363px_1-Kopie-e1725432507739.jpg
CATEGORIES:Konzert,Rock
LOCATION:Werfthalle Göppingen\, Manfred-Wörner-Straße 104\, Göppingen\,
  73037\, Deutschland
GEO:48.712623;9.689557
X-APPLE-STRUCTURED-LOCATION;VALUE=URI;X-ADDRESS=Manfred-Wörner-Straße 104
 \, Göppingen\, 73037\, Deutschland;X-APPLE-RADIUS=100;X-TITLE=Werfthalle 
 Göppingen:geo:48.712623,9.689557
END:VEVENT
BEGIN:VTIMEZONE
TZID:Europe/Berlin
X-LIC-LOCATION:Europe/Berlin
BEGIN:DAYLIGHT
DTSTART:20240331T030000
TZOFFSETFROM:+0100
TZOFFSETTO:+0200
TZNAME:CEST
END:DAYLIGHT
END:VTIMEZONE
END:VCALENDAR