BEGIN:VCALENDAR
VERSION:2.0
PRODID:-//wp-events-plugin.com//7.2.3.1//EN
TZID:Europe/Berlin
X-WR-TIMEZONE:Europe/Berlin
BEGIN:VEVENT
UID:14@lumberjack.de
DTSTART;TZID=Europe/Berlin:20230423T190000
DTEND;TZID=Europe/Berlin:20230423T213000
DTSTAMP:20230810T170300Z
URL:https://lumberjack.de/events/feeling-good-lumberjack-bigband-feiert-20
 -jahre-gosepelchor-celebration
SUMMARY:„FEELING GOOD“
DESCRIPTION:\n\nOrt:\nUditorium Uhingen: hier klicken\n\n\nKartenbezug:&nbs
 p\;\nonline: hier klicken\nVorverkaufsstellen:\nKulturbüro im Rathaus (Ki
 rchstrasse 2\, 73066 Uhingen (Tel.: 07161/9380-100))\nModehaus Frey (Stutt
 garterstraße 1\, 73066 Uhingen)\neventl. Abendkasse\n\n\nPresseinfo:\nhie
 r klicken\n\n\nmehr Infos:\nwww.gospelchor-celebration.jimdofree.com\nwww.
 uditorium.de
ATTACH;FMTTYPE=image/jpeg:https://lumberjack.de/wp-content/uploads/2023/02
 /Kombifoto-kleiner.jpg
LOCATION:Uditorium\, Ulmer Str. 7\, Uhingen\, Baden-Württemberg\, 73066\, 
 Deutschland
X-APPLE-STRUCTURED-LOCATION;VALUE=URI;X-ADDRESS=Ulmer Str. 7\, Uhingen\, Ba
 den-Württemberg\, 73066\, Deutschland;X-APPLE-RADIUS=100;X-TITLE=Uditoriu
 m:geo:0,0
END:VEVENT
BEGIN:VTIMEZONE
TZID:Europe/Berlin
X-LIC-LOCATION:Europe/Berlin
BEGIN:DAYLIGHT
DTSTART:20230326T030000
TZOFFSETFROM:+0100
TZOFFSETTO:+0200
TZNAME:CEST
END:DAYLIGHT
END:VTIMEZONE
END:VCALENDAR