BEGIN:VCALENDAR
VERSION:2.0
PRODID:-//wp-events-plugin.com//7.2.3.1//EN
TZID:Europe/Berlin
X-WR-TIMEZONE:Europe/Berlin
BEGIN:VEVENT
UID:27@lumberjack.de
DTSTART;TZID=Europe/Berlin:20240225T180000
DTEND;TZID=Europe/Berlin:20240225T203000
DTSTAMP:20240115T163114Z
URL:https://lumberjack.de/events/gute-taten-jubilaeumsgala-feat-switzer-dj
 avadi-podack-khawatmi-voc-frohnhoefer-sax
SUMMARY:„Gute Taten“ Jubiläumsgala feat. Switzer\, Djavadi\, Podack\, 
 Khawatmi (voc)\, Frohnhöfer (sax)
DESCRIPTION:die Gäste von 2004-2019:\n\n\n\n\n\n\n\n&nbsp\;\n\ndie Gäste 
 am 25.02.2024:\n\n\n\n\nKartenbezug:\nonline: hier klicken\nipunkt im Rath
 aus (Hauptstraße 1\, 73033 Göppingen - &nbsp\;Tel: 07161-650 4444) - nur
  hier Rollstuhltickets\nAbendkasse: falls verfügbar\n\n\nOrt:\nBlumenstra
 ße 41\, 73033 Göppingen\n\n\nFahrtbeschreibung: hier klicken\n\n\nPresse
 : hier klicken\n\n\nPlakat: hier klicken\n\n\nWerbeteaser: hier klicken\n\
 nBill Ramsey: hier klicken\nJoy Fleming: hier klicken und hier klicken\nPa
 ul Kuhn: hier klicken\nWencke Myhre: hier klicken\nGitte: hier klicken\nLJ
 BB feat. Roberto Blanco: hier klicken\nRoberto Blanco: hier klicken\nLJBB 
 feat. Peter Kraus: hier klicken\nPeter Kraus: hier klicken\nJohnny Logan: 
 hier klicken\nTony Christie: hier klicken\nLJBB feat. K.Doldinger/H.Schnei
 der: hier klicken\nKlaus Doldinger: hier klicken\nLJBB feat. Hugo Strasser
 : hier klicken\nPe Werner: hier klicken\nLJBB feat. Georgie Fame: hier kli
 cken\nGeorgie Fame: hier klicken\nAnn Sophie: hier klicken\nYannick Bovy: 
 hier klicken\nLJBB feat. ABBA: hier klicken\n\n&nbsp\;\n\nmehr Infos:\nwww
 .gutetaten-nwz.de\nwww.musical1.de/darsteller/karim-khawatmi\nwww.musical1
 .de/darsteller/maike-switzer\nwww.asitadjavadi.de\nwww.kaipodack.de\nwww.r
 alf-frohnhoefer.de
ATTACH;FMTTYPE=image/jpeg:https://lumberjack.de/wp-content/uploads/2022/03
 /bild_startseite.jpeg
LOCATION:Stadthalle Göppingen\, Blumenstraße 41\, Göppingen\, 73033\, De
 utschland
GEO:48.705403;9.661642
X-APPLE-STRUCTURED-LOCATION;VALUE=URI;X-ADDRESS=Blumenstraße 41\, Göpping
 en\, 73033\, Deutschland;X-APPLE-RADIUS=100;X-TITLE=Stadthalle Göppingen:
 geo:48.705403,9.661642
END:VEVENT
BEGIN:VTIMEZONE
TZID:Europe/Berlin
X-LIC-LOCATION:Europe/Berlin
BEGIN:STANDARD
DTSTART:20231029T020000
TZOFFSETFROM:+0200
TZOFFSETTO:+0100
TZNAME:CET
END:STANDARD
END:VTIMEZONE
END:VCALENDAR