BEGIN:VCALENDAR
VERSION:2.0
PRODID:-//wp-events-plugin.com//7.2.3.1//EN
TZID:Europe/Berlin
X-WR-TIMEZONE:Europe/Berlin
BEGIN:VEVENT
UID:17@lumberjack.de
DTSTART;TZID=Europe/Berlin:20230702T190000
DTEND;TZID=Europe/Berlin:20230702T213000
DTSTAMP:20230810T170305Z
URL:https://lumberjack.de/events/italian-night-feat-giovanni-costello
SUMMARY:Italian Night feat. Giovanni Costello
DESCRIPTION:\n\nWerbeteaser:\nhier klicken\n\n\nOrt:\nMörikeanlagen Göppi
 ngen\nAdresse:\nMörikestraße 29\, 73033 Göppingen\nFahrtbeschreibung:\n
 hier klicken\nTicketbezug:&nbsp\;\n\n\n 	online: hier klicken\n 	i-Punkt G
 öppingen (Hauptstraße 1\, 73033 Göppingen - Tel.nr.: 07161/6504444)\n 	
 email: info@staufer-festspiele.de \n 	Tel.nr. Stauferfestspiele: 07161-618
  9822\n 	Abendkasse (falls verfügbar)\n\nEinlass:\ntba\nBeginn:\n19.ooh\n
 Presseinfos:\nhier klicken\nKonzertplakat:\nhier klicken\nVideoteaser:\nhi
 er klicken\nweitere Infos:\nStauferfestpiele: hier klicken\nGiovanni Coste
 llo: hier klicken
ATTACH;FMTTYPE=image/jpeg:https://lumberjack.de/wp-content/uploads/2022/05
 /Flagge_Italien.jpg
LOCATION:Mörikeanlagen Göppingen\, Mörikestraße 29\,  Göppingen\, 7303
 3\, Deutschland
GEO:48.706647;9.660502
X-APPLE-STRUCTURED-LOCATION;VALUE=URI;X-ADDRESS=Mörikestraße 29\,  Göppi
 ngen\, 73033\, Deutschland;X-APPLE-RADIUS=100;X-TITLE=Mörikeanlagen Göpp
 ingen:geo:48.706647,9.660502
END:VEVENT
BEGIN:VTIMEZONE
TZID:Europe/Berlin
X-LIC-LOCATION:Europe/Berlin
BEGIN:DAYLIGHT
DTSTART:20230326T030000
TZOFFSETFROM:+0100
TZOFFSETTO:+0200
TZNAME:CEST
END:DAYLIGHT
END:VTIMEZONE
END:VCALENDAR