BEGIN:VCALENDAR
VERSION:2.0
PRODID:-//wp-events-plugin.com//7.2.3.1//EN
TZID:Europe/Berlin
X-WR-TIMEZONE:Europe/Berlin
BEGIN:VEVENT
UID:13@lumberjack.de
DTSTART;TZID=Europe/Berlin:20221204T190000
DTEND;TZID=Europe/Berlin:20221204T213000
DTSTAMP:20221017T164813Z
URL:https://lumberjack.de/events/lachend-unterm-weihnachtsbaum-lumberjack-
 bigband-feat-kai-podack-fueenf
SUMMARY:„Lachend unterm Weihnachtsbaum“
DESCRIPTION:\n\n&nbsp\;\n\nOrt:\nStadthalle Göppingen hier klicken\n\n&nbs
 p\;\n\nKartenbezug: Vorverkaufsbeginn:&nbsp\; 30.09.2022\n- online: lumber
 jack.de/tickets\n- i-Punkt Göppingen (nur hier Tickets für Rollstuhlfahr
 er)\n&nbsp\; Hauptstraße 1\, 73033 Göppingen\n&nbsp\; Tel.nr.: 07161/650
 4444\n- NWZ Göppingen\n&nbsp\; Rosenstrasse 24\, 73033 Göppingen\n&nbsp\
 ; Tel.nr: 07161/2040\n- eventl. Abendkasse\n\n&nbsp\;\n\nPresseinfo:\nhier
  klicken\n\n&nbsp\;\n\nPlakat:\nhier klicken\n\n\nMehr Infos:\nwww.fuenf.c
 om\nwww.kaipodack.de\nwww.stadthalle-gp.de\n\n&nbsp\;\n\nTeaser:\nhier kli
 cken
ATTACH;FMTTYPE=image/jpeg:https://lumberjack.de/wp-content/uploads/2022/09
 /ljbb_tributes-20220717-014.jpg
LOCATION:Stadthalle Göppingen\, Blumenstraße 41\, Göppingen\, 73033\, De
 utschland
GEO:48.705403;9.661642
X-APPLE-STRUCTURED-LOCATION;VALUE=URI;X-ADDRESS=Blumenstraße 41\, Göpping
 en\, 73033\, Deutschland;X-APPLE-RADIUS=100;X-TITLE=Stadthalle Göppingen:
 geo:48.705403,9.661642
END:VEVENT
BEGIN:VTIMEZONE
TZID:Europe/Berlin
X-LIC-LOCATION:Europe/Berlin
BEGIN:STANDARD
DTSTART:20221030T020000
TZOFFSETFROM:+0200
TZOFFSETTO:+0100
TZNAME:CET
END:STANDARD
END:VTIMEZONE
END:VCALENDAR