BEGIN:VCALENDAR
VERSION:2.0
PRODID:-//wp-events-plugin.com//7.2.3.1//EN
TZID:Europe/Berlin
X-WR-TIMEZONE:Europe/Berlin
BEGIN:VEVENT
UID:10@lumberjack.de
DTSTART;TZID=Europe/Berlin:20220717T180000
DTEND;TZID=Europe/Berlin:20220717T203000
DTSTAMP:20230810T170243Z
URL:https://lumberjack.de/events/lumberjack-bigband-best-of-tributes-vol-i
 i-queen-beatles-abba-udo-juergens-bee-gees-tina-turner-feat-j-marchewka-g-
 wagner-k-podack-m-engelstaedter
SUMMARY:LUMBERJACK BIGBAND "Best of Tributes" Vol. II (Queen\, Beatles\, AB
 BA\, Udo Jürgens\, Bee Gees\, Tina Turner) - feat. J.Marchewka\, G.Wagner
 \, K.Podack\, M.Engelstädter
DESCRIPTION:\n\nWerbeteaser Vol. II: hier klicken\n\nOrt:\nStadthalle Göpp
 ingen\nAdresse:\nBlumenstrasse 41\, 73033 Göppingen\nFahrtbeschreibung:\n
 hier klicken oder hier\nTicketbezug: Restkarten in allen Kategorien\n\n\n 
 	online: lumberjack.de/tickets\n 	i-Punkt Göppingen\nHauptstraße 1\, 730
 33 Göppingen\nTel.nr.: 07161/6504444\n 	Abendkasse&nbsp\;\n\nEinlass:\n17
 .15h\nBeginn:\n18.ooh\nPresseinfos:\nhier klicken\nKonzertplakat:\nhier kl
 icken\nVideoteaser:\nhier klicken\nweitere Infos:\nwww.engelstaedter.me\nw
 ww.jeannettemarchewka.de\nwww.kaipodack.de\nwww.restaurant-auf-schloss-fil
 seck.de\nwww.stadthalle-gp.de
ATTACH;FMTTYPE=image/jpeg:https://lumberjack.de/wp-content/uploads/2022/06
 /Kombifoto-kleiner.jpg
LOCATION:Stadthalle Göppingen\, Blumenstraße 41\, Göppingen\, 73033\, De
 utschland
GEO:48.705403;9.661642
X-APPLE-STRUCTURED-LOCATION;VALUE=URI;X-ADDRESS=Blumenstraße 41\, Göpping
 en\, 73033\, Deutschland;X-APPLE-RADIUS=100;X-TITLE=Stadthalle Göppingen:
 geo:48.705403,9.661642
END:VEVENT
BEGIN:VTIMEZONE
TZID:Europe/Berlin
X-LIC-LOCATION:Europe/Berlin
BEGIN:DAYLIGHT
DTSTART:20220327T030000
TZOFFSETFROM:+0100
TZOFFSETTO:+0200
TZNAME:CEST
END:DAYLIGHT
END:VTIMEZONE
END:VCALENDAR