BEGIN:VCALENDAR
VERSION:2.0
PRODID:-//wp-events-plugin.com//7.2.3.1//EN
TZID:Europe/Berlin
X-WR-TIMEZONE:Europe/Berlin
BEGIN:VEVENT
UID:20@lumberjack.de
DTSTART;TZID=Europe/Berlin:20230716T180000
DTEND;TZID=Europe/Berlin:20230716T210000
DTSTAMP:20230810T170309Z
URL:https://lumberjack.de/events/lumberjack-bigband-feat-max-mutzke-am-16-
 07-2023-auf-schloss-filseck-2
SUMMARY:Lumberjack Bigband feat. Max Mutzke
DESCRIPTION:
ATTACH;FMTTYPE=image/jpeg:https://lumberjack.de/wp-content/uploads/2023/06
 /Zwischenablage02.jpg
LOCATION:Schloss Filseck\, Filseck 1\, 73066 Uhingen\, Schloss Filseck\, De
 utschland
GEO:48.70054;9.604204
X-APPLE-STRUCTURED-LOCATION;VALUE=URI;X-ADDRESS=Filseck 1\, 73066 Uhingen\,
  Schloss Filseck\, Deutschland;X-APPLE-RADIUS=100;X-TITLE=Schloss Filseck:
 geo:48.70054,9.604204
END:VEVENT
BEGIN:VTIMEZONE
TZID:Europe/Berlin
X-LIC-LOCATION:Europe/Berlin
BEGIN:DAYLIGHT
DTSTART:20230326T030000
TZOFFSETFROM:+0100
TZOFFSETTO:+0200
TZNAME:CEST
END:DAYLIGHT
END:VTIMEZONE
END:VCALENDAR