BEGIN:VCALENDAR
VERSION:2.0
PRODID:-//wp-events-plugin.com//7.2.3.1//EN
TZID:Europe/Berlin
X-WR-TIMEZONE:Europe/Berlin
BEGIN:VEVENT
UID:23@lumberjack.de
DTSTART;TZID=Europe/Berlin:20231105T180000
DTEND;TZID=Europe/Berlin:20231105T203000
DTSTAMP:20230823T163201Z
URL:https://lumberjack.de/events/max-mutzke-lumberjack-bigband-meets-rhyth
 micals-ganz-chor
SUMMARY:Max Mutzke meets Rhythmicals
DESCRIPTION:\n\nKartenbezug:\nonline: hier klicken\nAbendkasse: falls verf
 ügbar\n\n&nbsp\;\n\nOrt:\nNeckarforum Esslingen\nEbershaldenstraße 12\n7
 3728 Esslingen a.N.\n\n&nbsp\;\n\nFahrtbeschreibung: folgt\n\n&nbsp\;\n\nP
 resse: hier klicken\n\n&nbsp\;\n\nPlakat: folgt\n\n&nbsp\;\n\nFlyer: folgt
 \n\n&nbsp\;\n\nWerbeteaser: hier klicken\n\n\n&nbsp\;\n\nmehr Infos:\nwww.
 maxmutzke.de\nwww.rhythmicals.de
ATTACH;FMTTYPE=image/jpeg:https://lumberjack.de/wp-content/uploads/2023/08
 /DSCF5230-kleiner-HP.jpg
CATEGORIES:Konzert
LOCATION:Esslingen Neckarforum\, Ebershaldenstraße 12\, 73728 Esslingen a.
 N.\, Deutschland
GEO:48.742195;9.313081
X-APPLE-STRUCTURED-LOCATION;VALUE=URI;X-ADDRESS=Ebershaldenstraße 12\, 737
 28 Esslingen a.N.\, Deutschland;X-APPLE-RADIUS=100;X-TITLE=Esslingen Necka
 rforum:geo:48.742195,9.313081
END:VEVENT
BEGIN:VTIMEZONE
TZID:Europe/Berlin
X-LIC-LOCATION:Europe/Berlin
BEGIN:STANDARD
DTSTART:20231029T020000
TZOFFSETFROM:+0200
TZOFFSETTO:+0100
TZNAME:CET
END:STANDARD
END:VTIMEZONE
END:VCALENDAR