BEGIN:VCALENDAR
VERSION:2.0
PRODID:-//wp-events-plugin.com//7.2.3.1//EN
TZID:Europe/Berlin
X-WR-TIMEZONE:Europe/Berlin
BEGIN:VEVENT
UID:37@lumberjack.de
DTSTART;TZID=Europe/Berlin:20250406T180000
DTEND;TZID=Europe/Berlin:20250406T203000
DTSTAMP:20250306T171031Z
URL:https://lumberjack.de/events/soundaeffects-x-lumberjack-bigband
SUMMARY:SoundÆffects X Lumberjack Bigband
DESCRIPTION:\n\nOrt:\nStadthalle Eislingen\nKronenplatz\n73054 Eislingen/Fi
 ls\n\n&nbsp\;\n\nFahrtbeschreibung:\nhier klicken\n\n&nbsp\;\n\nTicketbezu
 g: nur noch Kategorie 3: 29 € / 21 € (Kat 1 und 2 ausverkauft)&nbsp\; 
 &nbsp\; &nbsp\; &nbsp\; &nbsp\; &nbsp\; &nbsp\; &nbsp\; &nbsp\; &nbsp\; &n
 bsp\; &nbsp\; &nbsp\;&nbsp\;\n\n 	Direkt bei den Chormitgliedern\n 	Café 
 Gromer (Bahnhofstraße 5\, 73054 Eislingen/Fils)\n 	per Mail an&nbsp\;soun
 daeffects@germania-choere-eislingen.de\n\nErmäßigungen gelten für Kinde
 r unter 18 Jahren\, Schüler\, Studenten\, Schwerbehinderte ab 50%\, Teiln
 ehmer am BFD und FSJ gegen Nachweis am Einlass.\n\n&nbsp\;\n\nEinlass:\n17
 .3oh\nBeginn:\n18.ooh\n\n\nPresseinfos:\nhier klicken\n\n&nbsp\;\n\nweiter
 e Infos:\nSoundÆffects\nStadthalle Eislingen
ATTACH;FMTTYPE=image/jpeg:https://lumberjack.de/wp-content/uploads/2025/03
 /ljbb_klaus_lage-20241215-010.jpg
LOCATION:Stadthalle Eislingen\, Kronenplatz\, Eislingen\, 73054\, Deutschla
 nd
GEO:48.695277;9.705115
X-APPLE-STRUCTURED-LOCATION;VALUE=URI;X-ADDRESS=Kronenplatz\, Eislingen\, 7
 3054\, Deutschland;X-APPLE-RADIUS=100;X-TITLE=Stadthalle Eislingen:geo:48.
 695277,9.705115
END:VEVENT
BEGIN:VTIMEZONE
TZID:Europe/Berlin
X-LIC-LOCATION:Europe/Berlin
BEGIN:DAYLIGHT
DTSTART:20250330T030000
TZOFFSETFROM:+0100
TZOFFSETTO:+0200
TZNAME:CEST
END:DAYLIGHT
END:VTIMEZONE
END:VCALENDAR