BEGIN:VCALENDAR
VERSION:2.0
PRODID:-//wp-events-plugin.com//7.2.3.1//EN
TZID:Europe/Berlin
X-WR-TIMEZONE:Europe/Berlin
BEGIN:VEVENT
UID:12@lumberjack.de
DTSTART;TZID=Europe/Berlin:20220910T200000
DTEND;TZID=Europe/Berlin:20220910T223000
DTSTAMP:20230810T170248Z
URL:https://lumberjack.de/events/stadtfest-goeppingen-simply-the-best-feat
 -deborah-woodson-und-nathalie-dorra-voc
SUMMARY:Stadtfest Göppingen - Simply the Best feat. Deborah Woodson und Na
 thalie Dorra (voc)
DESCRIPTION:\nTermin:\nSa\, 10.09.2022\nBeginn:\n20.oo\nOrt:\nPodium Marktp
 latz - EVF Bühne: hier klicken\nKartenbezug:\nfreier Eintritt\nPresseinfo
 :\nhier klicken\nmehr Infos:\nhier klicken\nTeaser:\nhier klicken
ATTACH;FMTTYPE=image/jpeg:https://lumberjack.de/wp-content/uploads/2022/09
 /ljbb_tributes-20220717-014.jpg
LOCATION:PODIUM MARKTPLATZ – EVF-BÜHNE 2022\, Hauptstraße 1\, Göppinge
 n\, Baden-Württemberg\, 73033\, Deutschland
X-APPLE-STRUCTURED-LOCATION;VALUE=URI;X-ADDRESS=Hauptstraße 1\, Göppingen
 \, Baden-Württemberg\, 73033\, Deutschland;X-APPLE-RADIUS=100;X-TITLE=POD
 IUM MARKTPLATZ – EVF-BÜHNE 2022:geo:0,0
END:VEVENT
BEGIN:VTIMEZONE
TZID:Europe/Berlin
X-LIC-LOCATION:Europe/Berlin
BEGIN:DAYLIGHT
DTSTART:20220327T030000
TZOFFSETFROM:+0100
TZOFFSETTO:+0200
TZNAME:CEST
END:DAYLIGHT
END:VTIMEZONE
END:VCALENDAR