BEGIN:VCALENDAR
VERSION:2.0
PRODID:-//wp-events-plugin.com//7.2.3.1//EN
TZID:Europe/Berlin
X-WR-TIMEZONE:Europe/Berlin
BEGIN:VEVENT
UID:7@lumberjack.de
DTSTART;TZID=Europe/Berlin:20220508T180000
DTEND;TZID=Europe/Berlin:20220508T203000
DTSTAMP:20230810T170227Z
URL:https://lumberjack.de/events/swing-when-youre-winning-robbie-williams-
 tribute-feat-philipp-lang-voc-2
SUMMARY:Abgesagt: Swing when you’re winning – Robbie Williams Tribute f
 eat. Philipp Lang (voc)
DESCRIPTION:Aufgrund einer kurzfristigen Absage des Veranstalters fällt di
 eser Termin leider aus.\n\n&nbsp\;
ATTACH;FMTTYPE=image/jpeg:https://lumberjack.de/wp-content/uploads/2022/04
 /SWYW_Artwork_credits_Juergen_Schall_Lukas_Philipp_Anton.png
LOCATION:Stadthalle Aalen\, Berliner Platz 1\, Aalen\, 73430\, Deutschland
X-APPLE-STRUCTURED-LOCATION;VALUE=URI;X-ADDRESS=Berliner Platz 1\, Aalen\, 
 73430\, Deutschland;X-APPLE-RADIUS=100;X-TITLE=Stadthalle Aalen:geo:0,0
END:VEVENT
BEGIN:VTIMEZONE
TZID:Europe/Berlin
X-LIC-LOCATION:Europe/Berlin
BEGIN:DAYLIGHT
DTSTART:20220327T030000
TZOFFSETFROM:+0100
TZOFFSETTO:+0200
TZNAME:CEST
END:DAYLIGHT
END:VTIMEZONE
END:VCALENDAR