BEGIN:VCALENDAR
VERSION:2.0
PRODID:-//wp-events-plugin.com//7.2.3.1//EN
TZID:Europe/Berlin
X-WR-TIMEZONE:Europe/Berlin
BEGIN:VEVENT
UID:6@lumberjack.de
DTSTART;TZID=Europe/Berlin:20220507T200000
DTEND;TZID=Europe/Berlin:20220507T223000
DTSTAMP:20230810T170204Z
URL:https://lumberjack.de/events/swing-when-youre-winning-robbie-williams-
 tribute-feat-philipp-lang-voc
SUMMARY:Abgesagt: Swing when you're winning - Robbie Williams Tribute feat.
  Philipp Lang (voc)
DESCRIPTION:Aufgrund einer kurzfristigen Absage des Veranstalters fällt di
 eser Termin leider aus!\n\n&nbsp\;
ATTACH;FMTTYPE=image/jpeg:https://lumberjack.de/wp-content/uploads/2022/04
 /SWYW_Artwork_credits_Juergen_Schall_Lukas_Philipp_Anton.png
LOCATION:Konzerthaus Heidenheim\, Alfred-Bentz-Straße 6\, Heidenheim an de
 r Brenz\, Baden-Württemberg\, 89522 \, Deutschland
X-APPLE-STRUCTURED-LOCATION;VALUE=URI;X-ADDRESS=Alfred-Bentz-Straße 6\, He
 idenheim an der Brenz\, Baden-Württemberg\, 89522 \, Deutschland;X-APPLE-
 RADIUS=100;X-TITLE=Konzerthaus Heidenheim:geo:0,0
END:VEVENT
BEGIN:VTIMEZONE
TZID:Europe/Berlin
X-LIC-LOCATION:Europe/Berlin
BEGIN:DAYLIGHT
DTSTART:20220327T030000
TZOFFSETFROM:+0100
TZOFFSETTO:+0200
TZNAME:CEST
END:DAYLIGHT
END:VTIMEZONE
END:VCALENDAR