BEGIN:VCALENDAR
VERSION:2.0
PRODID:-//wp-events-plugin.com//7.2.3.1//EN
TZID:Europe/Berlin
X-WR-TIMEZONE:Europe/Berlin
BEGIN:VEVENT
UID:2@lumberjack.de
DTSTART;TZID=Europe/Berlin:20220423T200000
DTEND;TZID=Europe/Berlin:20220423T214500
DTSTAMP:20220416T112943Z
URL:https://lumberjack.de/events/swing-when-youre-winning
SUMMARY:Swing when you're winning - Robbie Williams Tribute feat. Philipp L
 ang (voc)
DESCRIPTION:Fahrtbeschreibung:\nhier klicken\n\n\nEinlass:&nbsp\;19.3oh\nBe
 ginn:&nbsp\;20.ooh\n\nBitte informieren Sie sich über die zum Konzertzeit
 punkt geltenden Coronamaßnamhmen\n\nKartenvorverkauf:\n\n\n***VHS Süßen
 :\n&nbsp\; &nbsp\; &nbsp\;Telefonnummer: 07162-9616-25 oder -37\n***Gebaue
 r's Edeka Süßen\n&nbsp\; &nbsp\; &nbsp\;Bühlstraße 21-23\, 73079 Süß
 en\n&nbsp\; &nbsp\; &nbsp\;Telefonnummer: 07162-94320\n***online: easytick
 et.de\n***Abendkasse: falls verfügbar\n\nMehr Infos:\nPhilipp Lang: hier 
 klicken\nKulturhalle Süssen: hier klicken\n\nVideos Robbie Williams Konze
 rt:\nhier klicken\n\nPresseinfos:\nhier klicken\n\nPlakat:\nhier klicken
ATTACH;FMTTYPE=image/jpeg:https://lumberjack.de/wp-content/uploads/2022/04
 /SWYW_Artwork_credits_Juergen_Schall_Lukas_Philipp_Anton.png
LOCATION:Kulturhalle Süßen\, Sommerauweg 11\, Süßen\, 73079\, Deutschla
 nd
X-APPLE-STRUCTURED-LOCATION;VALUE=URI;X-ADDRESS=Sommerauweg 11\, Süßen\, 
 73079\, Deutschland;X-APPLE-RADIUS=100;X-TITLE=Kulturhalle Süßen:geo:0,0
END:VEVENT
BEGIN:VTIMEZONE
TZID:Europe/Berlin
X-LIC-LOCATION:Europe/Berlin
BEGIN:DAYLIGHT
DTSTART:20220327T030000
TZOFFSETFROM:+0100
TZOFFSETTO:+0200
TZNAME:CEST
END:DAYLIGHT
END:VTIMEZONE
END:VCALENDAR