BEGIN:VCALENDAR
VERSION:2.0
PRODID:-//wp-events-plugin.com//7.2.3.1//EN
TZID:Europe/Berlin
X-WR-TIMEZONE:Europe/Berlin
BEGIN:VEVENT
UID:24@lumberjack.de
DTSTART;TZID=Europe/Berlin:20231007T200000
DTEND;TZID=Europe/Berlin:20231007T223000
DTSTAMP:20230906T181705Z
URL:https://lumberjack.de/events/thank-you-for-the-music-abba-tribute-relo
 aded
SUMMARY:“THANK YOU FOR THE MUSIC” - ABBA-TRIBUTE RELOADED
DESCRIPTION:\n\nKartenbezug:\n***online: lumberjack.de/tickets\n***Firma La
 mbert GmbH (zu den bekannten Öffnungszeiten)\n&nbsp\; &nbsp\; Tel.: 07161
 -99922-0\n***ipunkt im Rathaus (zu den bekannten Öffnungszeiten)\n&nbsp\;
  &nbsp\; Hauptstraße 1\, 73033 Göppingen\n&nbsp\; &nbsp\; Tel.: 07161-65
 0 4444\n***Abendkasse: falls verfügbar\n\n&nbsp\;\n\nOrt:\nFirma Lambert 
 Gmbh (Weberpark)\nHeininger Straße 38\, 73037 Göppingen\n\n&nbsp\;\n\nF
 ahrtbeschreibung: hier klicken\n\n&nbsp\;\n\nPresse: hier klicken\n\n&nbsp
 \;\n\nPlakat: hier klicken\n\n&nbsp\;\n\nWerbeteaser: hier klicken\n\n&nbs
 p\;\n\nmehr Infos:\nwww.lambert-gmbh.de
ATTACH;FMTTYPE=image/jpeg:https://lumberjack.de/wp-content/uploads/2023/09
 /4-Saenger-Bild-1.jpg
LOCATION:Firma Lambert GmbH\, Heininger Straße 38\, Göppingen\, 73037\, D
 eutschland
GEO:48.69457;9.66444
X-APPLE-STRUCTURED-LOCATION;VALUE=URI;X-ADDRESS=Heininger Straße 38\, Göp
 pingen\, 73037\, Deutschland;X-APPLE-RADIUS=100;X-TITLE=Firma Lambert GmbH
 :geo:48.69457,9.66444
END:VEVENT
BEGIN:VTIMEZONE
TZID:Europe/Berlin
X-LIC-LOCATION:Europe/Berlin
BEGIN:DAYLIGHT
DTSTART:20230326T030000
TZOFFSETFROM:+0100
TZOFFSETTO:+0200
TZNAME:CEST
END:DAYLIGHT
END:VTIMEZONE
END:VCALENDAR