BEGIN:VCALENDAR
VERSION:2.0
PRODID:-//wp-events-plugin.com//7.2.3.1//EN
TZID:Europe/Berlin
X-WR-TIMEZONE:Europe/Berlin
BEGIN:VEVENT
UID:29@lumberjack.de
DTSTART;TZID=Europe/Berlin:20240608T193000
DTEND;TZID=Europe/Berlin:20240608T220000
DTSTAMP:20240522T093510Z
URL:https://lumberjack.de/events/tom-gaebel-und-die-lumberjack-big-band-li
 cence-to-swing
SUMMARY:Tom Gaebel und die Lumberjack Big Band
DESCRIPTION:\n\n\nKartenbezug:\nonline: hier klicken\nAbendkasse: falls ver
 fügbar\n\n\nOrt:\nSchlosshof Bad Pyrmont\nSchloßstraße 13\n31812 Bad Py
 rmont\n\n\nFahrtbeschreibung:\nhier klicken\n\n\n\nPresse: hier klicken\n\
 n\nWerbeteaser:\nhier klicken\n\n&nbsp\;\n\nLumberjack BigBand feat. Tom G
 aebel:&nbsp\;\nBad Bad Leroy Brown: hier klicken\nGoldfinger: hier klicken
 \n\n\nmehr Infos:\nwww.staatsbad-pyrmont.de\nwww.tomgaebel.de
ATTACH;FMTTYPE=image/jpeg:https://lumberjack.de/wp-content/uploads/2024/04
 /04-copyright-Moritz-Kuenster-scaled.jpg
CATEGORIES:Konzert
LOCATION:Schloss Bad Pyrmont\, Schloßstraße 13\, Bad Pyrmont\, 31812\, De
 utschland
GEO:51.983569;9.248423
X-APPLE-STRUCTURED-LOCATION;VALUE=URI;X-ADDRESS=Schloßstraße 13\, Bad Pyr
 mont\, 31812\, Deutschland;X-APPLE-RADIUS=100;X-TITLE=Schloss Bad Pyrmont:
 geo:51.983569,9.248423
END:VEVENT
BEGIN:VTIMEZONE
TZID:Europe/Berlin
X-LIC-LOCATION:Europe/Berlin
BEGIN:DAYLIGHT
DTSTART:20240331T030000
TZOFFSETFROM:+0100
TZOFFSETTO:+0200
TZNAME:CEST
END:DAYLIGHT
END:VTIMEZONE
END:VCALENDAR