BEGIN:VCALENDAR
VERSION:2.0
PRODID:-//wp-events-plugin.com//7.2.3.1//EN
TZID:Europe/Berlin
X-WR-TIMEZONE:Europe/Berlin
BEGIN:VEVENT
UID:30@lumberjack.de
DTSTART;TZID=Europe/Berlin:20240609T180000
DTEND;TZID=Europe/Berlin:20240609T203000
DTSTAMP:20240522T093534Z
URL:https://lumberjack.de/events/tom-gaebel-und-die-lumberjack-big-band
SUMMARY:Tom Gaebel und die Lumberjack Big Band
DESCRIPTION:\n\n\nKartenbezug:\nonline: hier klicken\nAbendkasse: falls ver
 fügbar\n\n\nOrt:\nSchlosspark Rettershof\nRettershof 5\n65779 Kelkheim\n(
 bei schlechtem Wetter in der Stadthalle Kelkheim)\n\n\nFahrtbeschreibung:\
 nhier klicken\n\n\n\nPresse: hier klicken\n\n\nWerbeteaser:\nhier klicken\
 n\n&nbsp\;\n\nLumberjack BigBand feat. Tom Gaebel:&nbsp\;\nBad Bad Leroy B
 rown: hier klicken\nGoldfinger: hier klicken\n\n\nmehr Infos:\nVeranstalte
 r: hier klicken\nwww.tomgaebel.de
ATTACH;FMTTYPE=image/jpeg:https://lumberjack.de/wp-content/uploads/2024/04
 /04-copyright-Moritz-Kuenster-scaled.jpg
LOCATION:Rettershof Kelkheim\, Rettershof 5\, Kelkheim\, 65779\, Deutschlan
 d
GEO:50.169582;8.429118
X-APPLE-STRUCTURED-LOCATION;VALUE=URI;X-ADDRESS=Rettershof 5\, Kelkheim\, 6
 5779\, Deutschland;X-APPLE-RADIUS=100;X-TITLE=Rettershof Kelkheim:geo:50.1
 69582,8.429118
END:VEVENT
BEGIN:VTIMEZONE
TZID:Europe/Berlin
X-LIC-LOCATION:Europe/Berlin
BEGIN:DAYLIGHT
DTSTART:20240331T030000
TZOFFSETFROM:+0100
TZOFFSETTO:+0200
TZNAME:CEST
END:DAYLIGHT
END:VTIMEZONE
END:VCALENDAR