BEGIN:VCALENDAR
VERSION:2.0
PRODID:-//wp-events-plugin.com//7.2.3.1//EN
TZID:Europe/Berlin
X-WR-TIMEZONE:Europe/Berlin
BEGIN:VEVENT
UID:36@lumberjack.de
DTSTART;TZID=Europe/Berlin:20250316T190000
DTEND;TZID=Europe/Berlin:20250316T213000
DTSTAMP:20250306T164308Z
URL:https://lumberjack.de/events/tribute-to-roger-cicero-feat-kai-podack
SUMMARY:Tribute to Roger Cicero feat. Kai Podack
DESCRIPTION:\n\nOrt:\nKulturhalle Süssen\nAdresse:\nSommerauweg 11\n73079 
 Süßen\n\nFahrtbeschreibung:\nhier klicken\n\nTicketbezug: ausverkauft\n\
 n\nEinlass:\n18.ooh\nBeginn:\n19.ooh\n\nPresseinfos:\nhier klicken\n\nVide
 oteaser:\nhier klicken\n\nweitere Infos:\nKai Podack\nKulturhalle Süssen
ATTACH;FMTTYPE=image/jpeg:https://lumberjack.de/wp-content/uploads/2025/03
 /ljbb_klaus_lage-20241215-010.jpg
LOCATION:Kulturhalle Süssen\, Sommerauweg 11\, Süssen\, 73079\, Deutschla
 nd
GEO:48.677877;9.764814
X-APPLE-STRUCTURED-LOCATION;VALUE=URI;X-ADDRESS=Sommerauweg 11\, Süssen\, 
 73079\, Deutschland;X-APPLE-RADIUS=100;X-TITLE=Kulturhalle Süssen:geo:48.
 677877,9.764814
END:VEVENT
BEGIN:VTIMEZONE
TZID:Europe/Berlin
X-LIC-LOCATION:Europe/Berlin
BEGIN:STANDARD
DTSTART:20241027T020000
TZOFFSETFROM:+0200
TZOFFSETTO:+0100
TZNAME:CET
END:STANDARD
END:VTIMEZONE
END:VCALENDAR