BEGIN:VCALENDAR
VERSION:2.0
PRODID:-//wp-events-plugin.com//7.2.3.1//EN
TZID:Europe/Berlin
X-WR-TIMEZONE:Europe/Berlin
BEGIN:VEVENT
UID:38@lumberjack.de
DTSTART;TZID=Europe/Berlin:20250615T180000
DTEND;TZID=Europe/Berlin:20250615T203000
DTSTAMP:20250421T164313Z
URL:https://lumberjack.de/events/unter-die-haut-feat-cassandra-steen-und-d
 avid-whitley-voc
SUMMARY:"Unter die Haut" feat. Cassandra Steen und David Whitley (voc)
DESCRIPTION:\n\n\nKartenbezug:\n\nonline: hier klicken\n\n&nbsp\;\n\nBuchha
 ndlung Tolksdorf\nFrankenallee 6\n65779 Kelkheim\n06195 - 902200\n\n&nbsp\
 ;\n\nViolas Bücherwurm\nBahnstraße 13\n65779 Kelkheim\n06195 - 900818\n\
 n&nbsp\;\n\nAbendkasse: falls verfügbar\n\n&nbsp\;\n\nOrt:\nSchlosshotel 
 Rettershof (Garten)\nRettershof 5\n65779 Kelkheim (Taunus)\n\n&nbsp\;\n\nb
 ei Unwetter:\nStadthalle Kelkheim\nGagernring 1\n65779 Kelkheim (Taunus)\n
 \n&nbsp\;\n\nFahrtbeschreibung Rettershof: hier klicken\nFahrtbeschriebung
  Stadthalle: hier klicken\n\n&nbsp\;\n\nPresse: hier klicken\n\n&nbsp\;\n\
 nFlyer: hier klicken\n\n&nbsp\;\n\nWerbeteaser: hier klicken&nbsp\;\n\n\n&
 nbsp\;\n\nmehr Infos:\nC.Steen: hier klicken\nD.Whitley: hier klicken\n
ATTACH;FMTTYPE=image/jpeg:https://lumberjack.de/wp-content/uploads/2025/04
 /ljbb_unterdiehaut-20240413-146.jpg
CATEGORIES:Konzert,Soul
LOCATION:Rettershof Kelkheim\, Rettershof 5\, Kelkheim\, 65779\, Deutschlan
 d
GEO:50.169582;8.429118
X-APPLE-STRUCTURED-LOCATION;VALUE=URI;X-ADDRESS=Rettershof 5\, Kelkheim\, 6
 5779\, Deutschland;X-APPLE-RADIUS=100;X-TITLE=Rettershof Kelkheim:geo:50.1
 69582,8.429118
END:VEVENT
BEGIN:VTIMEZONE
TZID:Europe/Berlin
X-LIC-LOCATION:Europe/Berlin
BEGIN:DAYLIGHT
DTSTART:20250330T030000
TZOFFSETFROM:+0100
TZOFFSETTO:+0200
TZNAME:CEST
END:DAYLIGHT
END:VTIMEZONE
END:VCALENDAR