BEGIN:VCALENDAR
VERSION:2.0
PRODID:-//wp-events-plugin.com//7.2.3.1//EN
TZID:Europe/Berlin
X-WR-TIMEZONE:Europe/Berlin
BEGIN:VEVENT
UID:34@lumberjack.de
DTSTART;TZID=Europe/Berlin:20241215T190000
DTEND;TZID=Europe/Berlin:20241215T213000
DTSTAMP:20241001T141515Z
URL:https://lumberjack.de/events/wir-wollten-uns-nur-den-abend-vertreiben-
 lumberjack-bigband-feat-klaus-lage-voc
SUMMARY:„WIR WOLLTEN UNS NUR DEN ABEND VERTREIBEN“ LUMBERJACK BIGBAND F
 EAT. KLAUS LAGE (voc)
DESCRIPTION:\n\nKartenbezug – Vorverkaufsstart Fr\, 04.10.2024\n\n*** onl
 ine: hier klicken\n*** NWZ (Rosenstrasse 24\, 73033 Göppingen)\n&nbsp\; &
 nbsp\; &nbsp\;Telefonnummer: 07161/2040\n*** ipunkt im Rathaus Göppingen 
 (Hauptstraße 1\, 73033 Göppingen)\n&nbsp\; &nbsp\; &nbsp\;Telefonnummer:
  07161/6504444\n*** Abendkasse: falls verfügbar\n\n\nOrt:\nStadthalle Gö
 ppingen\nBlumenstrasse 41\, 73033 Göppingen\n\n&nbsp\;\n\nFahrtbeschreibu
 ng: hier klicken\n\n&nbsp\;\n\nPlakat: hier klicken\n\n\nPresse: hier klic
 ken\n\n\nVideos:&nbsp\;\nKlaus Lage: hier klicken\nFabian Ludwig: hier kli
 cken (bei 40‘14“)\n\n&nbsp\;\n\n&nbsp\;\n\nmehr Infos:\nKlaus Lage (vo
 c): hier klicken\nFabian Ludwig (kl): hier klicken\nNWZ Gute Taten: hier k
 licken
ATTACH;FMTTYPE=image/jpeg:https://lumberjack.de/wp-content/uploads/2024/10
 /Screenshot-2024-10-01-161128.jpg
CATEGORIES:Konzert
LOCATION:Stadthalle Göppingen\, Blumenstraße 41\, Göppingen\, 73033\, De
 utschland
GEO:48.705403;9.661642
X-APPLE-STRUCTURED-LOCATION;VALUE=URI;X-ADDRESS=Blumenstraße 41\, Göpping
 en\, 73033\, Deutschland;X-APPLE-RADIUS=100;X-TITLE=Stadthalle Göppingen:
 geo:48.705403,9.661642
END:VEVENT
BEGIN:VTIMEZONE
TZID:Europe/Berlin
X-LIC-LOCATION:Europe/Berlin
BEGIN:STANDARD
DTSTART:20241027T020000
TZOFFSETFROM:+0200
TZOFFSETTO:+0100
TZNAME:CET
END:STANDARD
END:VTIMEZONE
END:VCALENDAR